BEGIN:VCALENDAR
VERSION:2.0
PRODID:-//ChamberMaster//Event Calendar 2.0//EN
METHOD:PUBLISH
X-PUBLISHED-TTL:P3D
REFRESH-INTERVAL:P3D
CALSCALE:GREGORIAN
BEGIN:VEVENT
DTSTART:20211021T130000Z
DTEND:20211021T143000Z
X-MICROSOFT-CDO-ALLDAYEVENT:FALSE
SUMMARY:Western Ma Senior Service Providers Virtual Networking Meeting
DESCRIPTION:Katie Krupka from Home Sweet Home Senior Living Advisor and Angie Thorton from Homecare Hands host a monthly Western MA Senior Service Provider Virtual Networking Meeting. All are welcome!\n\n\n\nPlease email Katie\, Katie@homesweethomesla.com to sign up to receive the Zoom link.
X-ALT-DESC;FMTTYPE=text/html:<div style="text-align: center\;">&nbsp\;</div>\n<span style="font-size:14px"><span style="font-family:tahoma"><span style="color:#000080"><span style="font-size:16px\;">Katie Krupka from <a href="https://homesweethomesenior.com/"><strong>Home Sweet Home Senior Living Advisor</strong></a> and Angie Thorton from <strong><a href="http://www.homecarehands24.com/">Homecare Hands</a> </strong>host a monthly Western MA Senior Service Provider Virtual Networking Meeting. All are welcome!<br />\n<br />\nPlease email Katie\, <strong>Katie@homesweethomesla.com</strong> to sign up to receive the Zoom link.</span></span></span></span><br />\n<br />\n&nbsp\;
LOCATION:Zoom Meeting
UID:e.2525.4076
SEQUENCE:3
DTSTAMP:20260422T150545Z
URL:https://business.erc5.com/events/details/western-ma-senior-service-providers-virtual-networking-meeting-10-21-2021-4076
END:VEVENT

END:VCALENDAR
