BEGIN:VCALENDAR
VERSION:2.0
PRODID:-//ChamberMaster//Event Calendar 2.0//EN
METHOD:PUBLISH
X-PUBLISHED-TTL:P3D
REFRESH-INTERVAL:P3D
CALSCALE:GREGORIAN
BEGIN:VEVENT
DTSTART:20260507T203000Z
DTEND:20260507T233000Z
X-MICROSOFT-CDO-ALLDAYEVENT:FALSE
SUMMARY:Sip & Shop ffor Mom\, Dad & Grads
DESCRIPTION:Are you looking for the perfect Mother's Day or Father's Day gift? Attend our premier in-person shipping event!\n\n\n\n\n\nWe're hosting Sip & Shop: for Mom\, Dad & Grads on Thursday\, May 7 at 4:30 pm. Are you looking for the perfect way to celebrate Mom and Dad? Don't know what to gift a recent grad?\n\nJoin us at Mercedes-Benz of Springfield for a relaxing evening of shopping\, sipping refreshing drinks\, and discovering unique gifts that any mom\, dad\, or grad will love. With new sellers and products added regularly\, it's the perfect opportunity to find that unique and special gift while supporting the talented artisans and makers of the Feel Good Shop Local community. Test drive a Mercedes while you shop! Don't miss out\, grab your tickets today!
X-ALT-DESC;FMTTYPE=text/html:<div class="StructuredModuleRenderer_structuredContent__k7mNB StructuredModuleRenderer_text__GaXOv" data-testid="text-content" helvetica="" neue="" style="box-sizing: border-box\; padding: 0px\; margin: 0px\; color: rgb(88\, 81\, 99)\; align-self: stretch\; overflow: hidden\; text-overflow: ellipsis\; line-height: 23.94px\; letter-spacing: 0.1px\; font-size: 18px\; font-family: ">\n<div style="box-sizing: border-box\; padding: 0px\; margin: 0px\;">\n<p style="box-sizing: border-box\; padding: 0px 0px 12px\; margin: 0px\;">Are you looking for the perfect Mother&#39\;s Day or Father&#39\;s Day gift? Attend our premier in-person shipping event!</p>\n</div>\n</div>\n\n<div class="StructuredModuleRenderer_structuredContent__k7mNB StructuredModuleRenderer_text__GaXOv" data-testid="text-content" helvetica="" neue="" style="box-sizing: border-box\; padding: 0px\; margin: 0px\; color: rgb(88\, 81\, 99)\; align-self: stretch\; overflow: hidden\; text-overflow: ellipsis\; line-height: 23.94px\; letter-spacing: 0.1px\; font-size: 18px\; font-family: ">\n<div style="box-sizing: border-box\; padding: 0px\; margin: 0px\;">\n<p style="box-sizing: border-box\; padding: 0px 0px 12px\; margin: 0px\;">We&#39\;re hosting Sip &amp\; Shop: for Mom\, Dad &amp\; Grads on Thursday\, May 7 at 4:30 pm. Are you looking for the perfect way to celebrate Mom and Dad? Don&#39\;t know what to gift a recent grad?</p>\n\n<p style="box-sizing: border-box\; padding: 0px 0px 12px\; margin: 12px 0px 0px\;">Join us at <strong>Mercedes-Benz of Springfield</strong> for a relaxing evening of shopping\, sipping refreshing drinks\, and discovering unique gifts that any mom\, dad\, or grad will love. With new sellers and products added regularly\, it&rsquo\;s the perfect opportunity to find that unique and special gift while supporting the talented artisans and makers of the <strong>Feel Good Shop Local</strong> community. Test drive a Mercedes while you shop! Don&rsquo\;t miss out\, grab your tickets today!</p>\n</div>\n</div>\n
LOCATION:
UID:e.2525.5302
SEQUENCE:3
DTSTAMP:20260422T090148Z
URL:https://business.erc5.com/events/details/sip-shop-ffor-mom-dad-grads-5302
END:VEVENT

END:VCALENDAR
