BEGIN:VCALENDAR
VERSION:2.0
PRODID:-//ChamberMaster//Event Calendar 2.0//EN
METHOD:PUBLISH
X-PUBLISHED-TTL:P3D
REFRESH-INTERVAL:P3D
CALSCALE:GREGORIAN
BEGIN:VEVENT
DTSTART:20200206T220000Z
DTEND:20200207T010000Z
X-MICROSOFT-CDO-ALLDAYEVENT:FALSE
SUMMARY:Sip & See: Personal Primary Care & Weight Management
DESCRIPTION:EAST LONGMEADOW\, MA- Premier medical and Medspa services now offered at Personal Primary Care and Weight Management.  \n\n\n\nPlease join us and see the state-of-the-art technology complimenting the office of Doctors Nidah and Talal Khan.  Dr. Nidah Khan will be sharing some of the non-surgical approaches and services of the new Medspa.  Services will complement the practice of Personal Primary Care and Weight Management.  The celebration is free and includes light refreshments\, product gifts (first 100 guests)\, practice-wide discounts including 10% off gift certificates\, and live demonstrations of our new services. \n\n\n\nAs a premier medical and Medspa office we offer a multitude of state-of-the-art services\, including our new multi-technology treatments of the Viora V20.  This technology can support and sustain skin rejuvenation\, body sculpting\, skin tightening\, hair removal and acne clearance. \n\n\n\n"Our patients have asked for these services and I am so proud and excited to offer this technology.  For some of our patients it may provide an additional sense of confidence\, for others it is maintenance. I am happy to provide another piece to complete the self-care puzzle"\, Dr. Nidah Khan\n\n\n\nPlease RSVP by January 24\, 2020 to 413-798-0301\, or by email: aswift@personalprimarycare.com \n\n\n\nWe look forward to seeing you!
X-ALT-DESC;FMTTYPE=text/html:<strong><span style="font-family:segoe ui symbol\,sans-serif"><span style="font-size:12pt">EAST LONGMEADOW\, MA</span></span></strong><strong><span style="font-family:segoe ui symbol\,sans-serif">- </span></strong><span style="color:rgb(51\, 51\, 51)\; font-family:sans-serif\,arial\,verdana\,&amp\; font-size:13px"><span style="font-size:12pt">Premier medical and Medspa <span style="font-family:segoe ui symbol\,sans-serif">services now offered at Personal Primary Care and Weight Management.&nbsp\; </span></span></span><br />\n<br />\n<span style="color:rgb(51\, 51\, 51)\; font-family:segoe ui symbol\,sans-serif\; font-size:13px"><span style="font-size:12pt">Please join us and see the state-of-the-art technology complimenting the office of Doctors Nidah and Talal Khan.&nbsp\; Dr. Nidah Khan will be sharing some of the non-surgical approaches and services of the new Medspa.&nbsp\; Services will complement the practice of Personal Primary Care and Weight Management.&nbsp\; The celebration is free and includes light refreshments\, product gifts (first 100 guests)\, practice-wide discounts including 10% off gift certificates\, and live demonstrations of our new services. </span></span><br />\n<br />\n<span style="color:rgb(51\, 51\, 51)\; font-family:segoe ui symbol\,sans-serif\; font-size:13px"><span style="font-size:12pt">As a premier medical and Medspa office we offer a multitude of state-of-the-art services\, including our new multi-technology treatments of the Viora V20.&nbsp\; This technology can support and sustain skin rejuvenation\, body sculpting\, skin tightening\, hair removal and acne clearance.&nbsp\;</span></span><br />\n<br />\n<span style="color:rgb(51\, 51\, 51)\; font-family:segoe ui symbol\,sans-serif\; font-size:13px"><span style="font-size:10pt">&ldquo\;Our patients have asked for these services and I am so proud and excited to offer this technology.&nbsp\; For some of our patients it may provide an additional sense of confidence\, for others it is maintenance. I am happy to provide another piece to complete the self-care puzzle&rdquo\;\, Dr. Nidah Khan<br />\n<br />\nPlease RSVP by January 24\, 2020 to 413-798-0301\, or by email: aswift@personalprimarycare.com&nbsp\;<br />\n<br />\nWe look forward to seeing you!</span></span>
LOCATION:294 North Main Street\, Suite 101 East Longmeadow\, MA 01028
UID:e.2525.3741
SEQUENCE:3
DTSTAMP:20260423T224247Z
URL:https://business.erc5.com/events/details/sip-see-for-personal-primary-care-weight-management-3741
END:VEVENT

END:VCALENDAR
