BEGIN:VCALENDAR
VERSION:2.0
PRODID:-//ChamberMaster//Event Calendar 2.0//EN
METHOD:PUBLISH
X-PUBLISHED-TTL:P3D
REFRESH-INTERVAL:P3D
CALSCALE:GREGORIAN
BEGIN:VEVENT
DTSTART:20211028T130000Z
DTEND:20211028T140000Z
X-MICROSOFT-CDO-ALLDAYEVENT:FALSE
SUMMARY:ERC5 Snacks & Facts - Negotiation Strategies for Negotiating Confientially and Confidently
DESCRIPTION:ERC5 Members - $5                            Guests - $15\n\n\nJoin the ERC5 as we learn from President of Business and Government Services\, Gary Lefort about best practices when it comes to business negotiations. A great virtual event to learn strategies to use when faced with the challenge of negotiating in anything from informal day-to-day interactions to formal transactions such as conditions of sale\, lease\, services\, or other legal contracts. \n\n\n\nBusiness Negotiations are an integral part of doing domestic and international business.  Negotiations go through a three-stage process: pre-negotiation planning\, negotiations\, and contractual agreement\, and follow-up. This Snacks & Facts presentation will walk attendees through the three-stage process\, the importance of having a business negotiating plan\, and discuss how you as an employer\, employee\, customer\, etc. can develop the communicative skills you need to be successful at negotiations.
X-ALT-DESC;FMTTYPE=text/html:<div style="text-align: center\;"><u><strong><span style="font-family:verdana\;"><span style="font-size:16px\;">ERC5 Members - $5</span></span></strong></u><strong>&nbsp\; &nbsp\; &nbsp\; &nbsp\; &nbsp\; &nbsp\; &nbsp\; &nbsp\; &nbsp\; &nbsp\; &nbsp\; &nbsp\; &nbsp\; &nbsp\;&nbsp\;</strong><span style="font-family:verdana\;"><span style="font-size:16px\;"><u><strong>Guests - $15</strong></u></span></span></div>\n<br />\n<span style="font-family:verdana\;"><span style="font-size:16px\;">Join the ERC5 as we learn from President of Business and Government Services\, Gary Lefort about best practices when it comes to business negotiations. A great virtual event to learn strategies to use when faced with the challenge of negotiating in anything from informal day-to-day interactions to formal transactions such as conditions of sale\, lease\, services\, or other legal contracts.&nbsp\;<br />\n<br />\nBusiness Negotiations are an integral part of doing domestic and international business.&nbsp\; Negotiations go through a three-stage process: pre-negotiation planning\, negotiations\, and contractual agreement\, and follow-up. This Snacks &amp\; Facts presentation will walk attendees through the three-stage process\, the importance of having a business negotiating plan\, and discuss how you as an employer\, employee\, customer\, etc. can develop the communicative skills you need to be successful at negotiations.&nbsp\;</span></span><br />\n<br />\n&nbsp\;
LOCATION:Virtual Workshop via Zoom
UID:e.2525.4374
SEQUENCE:3
DTSTAMP:20260422T113354Z
URL:https://business.erc5.com/events/details/erc5-snacks-facts-negotiation-strategies-for-negotiating-confientially-and-confidently-4374
END:VEVENT

END:VCALENDAR
