BEGIN:VCALENDAR
VERSION:2.0
PRODID:-//ChamberMaster//Event Calendar 2.0//EN
METHOD:PUBLISH
X-PUBLISHED-TTL:P3D
REFRESH-INTERVAL:P3D
CALSCALE:GREGORIAN
BEGIN:VEVENT
DTSTART:20230113T210000Z
DTEND:20230114T000000Z
X-MICROSOFT-CDO-ALLDAYEVENT:FALSE
SUMMARY:ERC5\, Pro & Local and WRC Beer & Wine Tasting
DESCRIPTION:Enjoy refreshments from five local breweries.  It's a great opportunity to connect with other professionals' and celebrate TGIF. Join us as we sip some wine\, sample some beer \n\nand work on building our network.
X-ALT-DESC;FMTTYPE=text/html:<div style="text-align: center\;"><span style="color: rgb(51\, 51\, 51)\; font-family: verdana\; font-size: 16px\; background-color: rgb(255\, 255\, 255)\;">Enjoy refreshments from five local breweries.&nbsp\;&nbsp\;It&#39\;s a great opportunity to connect with other professionals&#39\;&nbsp\;and celebrate TGIF.&nbsp\;</span><span style="font-size:16px\;"><span style="font-family:verdana\;">Join us as we sip some wine\, sample some beer&nbsp\;<br />\nand work on building our network.</span></span><br />\n<br />\n<br />\n&nbsp\;</div>\n
LOCATION:Pro & Local Detailing Inc. 1 Peerless Way #17 Enfield\, CT
UID:e.2525.4711
SEQUENCE:3
DTSTAMP:20260420T083729Z
URL:https://business.erc5.com/events/details/erc5-pro-local-and-wrc-beer-wine-tasting-4711
END:VEVENT

END:VCALENDAR
