BEGIN:VCALENDAR
VERSION:2.0
PRODID:-//ChamberMaster//Event Calendar 2.0//EN
METHOD:PUBLISH
X-PUBLISHED-TTL:P3D
REFRESH-INTERVAL:P3D
CALSCALE:GREGORIAN
BEGIN:VEVENT
DTSTART:20260617T203000Z
DTEND:20260617T223000Z
X-MICROSOFT-CDO-ALLDAYEVENT:FALSE
SUMMARY:ERC5 After Hours at Loomis Lakeside
DESCRIPTION:Join Us for an Exclusive Networking Event at Loomis Lakeside at Reeds Landing!\n\n \n\nWe invite you to a special networking opportunity at one of Springfield's hidden gems!  Immerse yourself in the stunning beauty of Loomis Lakeside\, where lush gardens\, mature trees\, and picturesque walking trails meet the serene backdrop of Lake Massasoit.\n\n \n\nWhy Attend:\n\n\n	Discover the exceptional services and amenities offered at Loomis Lakeside.\n	Connect with like-minded professionals and community members. \n	Explore potential collaborations that could lead to innovative services for our community.\n	Build lasting relationships that can enhance both personal and professional growth.\n\n\n \n\nNetworking is more than just exchanging business cards\; it's about creating opportunities and forging connections that can lead to wonderful collaborations.  Don't miss out on this chance to expand your network and explore all that Loomis Lakeside has to offer\n\n \n\nWe can't wait to see you there.
X-ALT-DESC;FMTTYPE=text/html:<div style="text-align: center\;"><strong style="color: rgb(51\, 51\, 51)\; font-family: sans-serif\, Arial\, Verdana\, &quot\;Trebuchet MS&quot\;\; font-size: 13px\;"><span style="font-family: verdana\;"><span style="font-size: 16px\;">Join Us for an Exclusive Networking Event at Loomis Lakeside at Reeds Landing!</span></span></strong></div>\n\n<div style="text-align: center\;">&nbsp\;</div>\n\n<div style="text-align: center\;"><font color="#333333" face="verdana"><b>We invite you to a special networking opportunity at one of Springfield&#39\;s hidden gems!&nbsp\; Immerse yourself in the stunning beauty of Loomis Lakeside\, where lush gardens\, mature trees\, and picturesque walking trails meet the serene&nbsp\;backdrop of Lake Massasoit.</b></font></div>\n\n<div style="text-align: center\;">&nbsp\;</div>\n\n<div style="text-align: center\;"><font color="#333333" face="verdana"><b>Why Attend:</b></font></div>\n\n<ul>\n	<li><font color="#333333" face="verdana"><b>Discover the exceptional services and amenities offered at Loomis Lakeside.</b></font></li>\n	<li><font color="#333333" face="verdana"><b>Connect with like-minded professionals and community members.&nbsp\;</b></font></li>\n	<li><font color="#333333" face="verdana"><b>Explore potential collaborations that could lead to innovative services for our community.</b></font></li>\n	<li><font color="#333333" face="verdana"><b>Build lasting relationships that can enhance both personal and professional growth.</b></font></li>\n</ul>\n\n<div style="text-align: center\;">&nbsp\;</div>\n\n<div style="text-align: center\;"><font color="#333333" face="verdana"><b>Networking is more than just exchanging business cards\; it&#39\;s about creating opportunities and forging connections that can lead to wonderful collaborations.&nbsp\; Don&#39\;t miss out on this chance to expand your network and explore all that Loomis Lakeside has to offer</b></font></div>\n\n<div style="text-align: center\;">&nbsp\;</div>\n\n<div style="text-align: center\;"><font color="#333333" face="verdana"><b>We can&#39\;t wait to see you there.&nbsp\;</b></font></div>\n
LOCATION:
UID:e.2525.5304
SEQUENCE:3
DTSTAMP:20260423T230017Z
URL:https://business.erc5.com/events/details/erc5-after-hours-at-loomis-lakeside-5304
END:VEVENT

END:VCALENDAR
