BEGIN:VCALENDAR
VERSION:2.0
PRODID:-//ChamberMaster//Event Calendar 2.0//EN
METHOD:PUBLISH
X-PUBLISHED-TTL:P3D
REFRESH-INTERVAL:P3D
CALSCALE:GREGORIAN
BEGIN:VEVENT
DTSTART:20261013T203000Z
DTEND:20261013T223000Z
X-MICROSOFT-CDO-ALLDAYEVENT:FALSE
SUMMARY:After Hours Networking with The Drama Studio
DESCRIPTION:
X-ALT-DESC;FMTTYPE=text/html:
LOCATION:Save the Date! Mark your calendars for ERC5 After Hours Networking Event at The Drama Studio. More details to come soon\, so stay tuned!
UID:e.2525.5303
SEQUENCE:3
DTSTAMP:20260424T165803Z
URL:https://business.erc5.com/events/details/after-hours-networking-with-the-drama-studio-5303
END:VEVENT

END:VCALENDAR
